BEGIN:VCALENDAR
VERSION:2.0
PRODID:-//bswtraininghub.nhs.uk - ECPv6.15.20//NONSGML v1.0//EN
CALSCALE:GREGORIAN
METHOD:PUBLISH
X-ORIGINAL-URL:https://bswtraininghub.nhs.uk
X-WR-CALDESC:Events for bswtraininghub.nhs.uk
REFRESH-INTERVAL;VALUE=DURATION:PT1H
X-Robots-Tag:noindex
X-PUBLISHED-TTL:PT1H
BEGIN:VTIMEZONE
TZID:Europe/London
BEGIN:DAYLIGHT
TZOFFSETFROM:+0000
TZOFFSETTO:+0100
TZNAME:BST
DTSTART:20250330T010000
END:DAYLIGHT
BEGIN:STANDARD
TZOFFSETFROM:+0100
TZOFFSETTO:+0000
TZNAME:GMT
DTSTART:20251026T010000
END:STANDARD
BEGIN:DAYLIGHT
TZOFFSETFROM:+0000
TZOFFSETTO:+0100
TZNAME:BST
DTSTART:20260329T010000
END:DAYLIGHT
BEGIN:STANDARD
TZOFFSETFROM:+0100
TZOFFSETTO:+0000
TZNAME:GMT
DTSTART:20261025T010000
END:STANDARD
BEGIN:DAYLIGHT
TZOFFSETFROM:+0000
TZOFFSETTO:+0100
TZNAME:BST
DTSTART:20270328T010000
END:DAYLIGHT
BEGIN:STANDARD
TZOFFSETFROM:+0100
TZOFFSETTO:+0000
TZNAME:GMT
DTSTART:20271031T010000
END:STANDARD
END:VTIMEZONE
BEGIN:VEVENT
DTSTART;TZID=Europe/London:20260910T130000
DTEND;TZID=Europe/London:20260910T134000
DTSTAMP:20260424T220433
CREATED:20260210T130353Z
LAST-MODIFIED:20260210T130353Z
UID:10000316-1789045200-1789047600@bswtraininghub.nhs.uk
SUMMARY:BSW Virtual Diabetes Bitesize Education "Identifying an "at risk foot" in People with Type 2 Diabetes" with Diabetes Specialist Podiatrist Oliver Bennett RUH\, Bath
DESCRIPTION:Welcome to the return of Diabetes Bitesize Education.  \nThe 2026 programme will offer key insights into managing Type 2 Diabetes from leading specialists. \nAll presentations will be 30 minutes followed by 10 minutes for questions. \nWe look forward to seeing you. \nThursday 10th September 2026 13:00-13:40 – Identifying an “at risk foot” in people with diabetes with Diabetes Specialist Podistrist Oliver Bennett RUH\, Bath  \n\nPresentation of foot problems in the type 2 diabetes population\nHow to identify an ‘At risk foot’\nManagement of high risk feet\nWhen to refer/ seek advice.\n\n  \nThis event will be hosted on MS Teams. To register for this event\, please contact us using the email address below.
URL:https://bswtraininghub.nhs.uk/event/bsw-virtual-diabetes-bitesize-education-identifying-an-at-risk-foot-in-people-with-type-2-diabetes-with-diabetes-specialist-podiatrist-oliver-bennett-ruh-bath/
CATEGORIES:Diabetes
ORGANIZER;CN="Bath 3-D Integrated Diabetes Care%2C Bath":MAILTO:ruh-tr.diabetesprojectsupport@nhs.net
END:VEVENT
END:VCALENDAR