BEGIN:VCALENDAR
VERSION:2.0
PRODID:-//bswtraininghub.nhs.uk - ECPv6.15.20//NONSGML v1.0//EN
CALSCALE:GREGORIAN
METHOD:PUBLISH
X-WR-CALNAME:bswtraininghub.nhs.uk
X-ORIGINAL-URL:https://bswtraininghub.nhs.uk
X-WR-CALDESC:Events for bswtraininghub.nhs.uk
REFRESH-INTERVAL;VALUE=DURATION:PT1H
X-Robots-Tag:noindex
X-PUBLISHED-TTL:PT1H
BEGIN:VTIMEZONE
TZID:Europe/London
BEGIN:DAYLIGHT
TZOFFSETFROM:+0000
TZOFFSETTO:+0100
TZNAME:BST
DTSTART:20250330T010000
END:DAYLIGHT
BEGIN:STANDARD
TZOFFSETFROM:+0100
TZOFFSETTO:+0000
TZNAME:GMT
DTSTART:20251026T010000
END:STANDARD
BEGIN:DAYLIGHT
TZOFFSETFROM:+0000
TZOFFSETTO:+0100
TZNAME:BST
DTSTART:20260329T010000
END:DAYLIGHT
BEGIN:STANDARD
TZOFFSETFROM:+0100
TZOFFSETTO:+0000
TZNAME:GMT
DTSTART:20261025T010000
END:STANDARD
BEGIN:DAYLIGHT
TZOFFSETFROM:+0000
TZOFFSETTO:+0100
TZNAME:BST
DTSTART:20270328T010000
END:DAYLIGHT
BEGIN:STANDARD
TZOFFSETFROM:+0100
TZOFFSETTO:+0000
TZNAME:GMT
DTSTART:20271031T010000
END:STANDARD
END:VTIMEZONE
BEGIN:VEVENT
DTSTART;TZID=Europe/London:20260611T130000
DTEND;TZID=Europe/London:20260611T134000
DTSTAMP:20260424T162400
CREATED:20260210T124351Z
LAST-MODIFIED:20260210T125520Z
UID:10000313-1781182800-1781185200@bswtraininghub.nhs.uk
SUMMARY:BSW Virtual Diabetes Bitesize Education “Managing CKD in people with Type 2 Diabetes” with Dr Albert Power Consultant Physician in Renal Medicine Southmead Hospital\, Bristol
DESCRIPTION:Welcome to the return of Diabetes Bitesize Education.  \nThe 2026 programme will offer key insights into managing Type 2 Diabetes from leading specialists. \nAll presentations will be 30 minutes followed by 10 minutes for questions. \nWe look forward to seeing you. \nThursday 11th June 2026 13:00-13:40 – Managing CKD in people with Type 2 Diabetes with Dr Albert Power Consultant Physician in Renal Medicine Southmead Hospital Bristol  \n\nOccurrence and presentation of CKD in the type 2 diabetes population\nHow to diagnose CKD\nCommunicating risk to patients Management of CKD\nWhen to refer/ seek advice When to refer/ seek advice\n\nThis event will be hosted on MS Teams. To register for this event\, please contact us using the email address below.
URL:https://bswtraininghub.nhs.uk/event/bsw-virtual-diabetes-bitesize-education-managing-ckd-in-people-with-type-2-diabetes-with-dr-albert-power-consultant-physician-in-renal-medicine-southmead-hospital-bristol/
LOCATION:Dorset
CATEGORIES:Diabetes
ORGANIZER;CN="Bath 3-D Integrated Diabetes Care%2C Bath":MAILTO:ruh-tr.diabetesprojectsupport@nhs.net
END:VEVENT
END:VCALENDAR