BEGIN:VCALENDAR
VERSION:2.0
PRODID:-//bswtraininghub.nhs.uk - ECPv6.15.20//NONSGML v1.0//EN
CALSCALE:GREGORIAN
METHOD:PUBLISH
X-WR-CALNAME:bswtraininghub.nhs.uk
X-ORIGINAL-URL:https://bswtraininghub.nhs.uk
X-WR-CALDESC:Events for bswtraininghub.nhs.uk
REFRESH-INTERVAL;VALUE=DURATION:PT1H
X-Robots-Tag:noindex
X-PUBLISHED-TTL:PT1H
BEGIN:VTIMEZONE
TZID:Europe/London
BEGIN:DAYLIGHT
TZOFFSETFROM:+0000
TZOFFSETTO:+0100
TZNAME:BST
DTSTART:20250330T010000
END:DAYLIGHT
BEGIN:STANDARD
TZOFFSETFROM:+0100
TZOFFSETTO:+0000
TZNAME:GMT
DTSTART:20251026T010000
END:STANDARD
BEGIN:DAYLIGHT
TZOFFSETFROM:+0000
TZOFFSETTO:+0100
TZNAME:BST
DTSTART:20260329T010000
END:DAYLIGHT
BEGIN:STANDARD
TZOFFSETFROM:+0100
TZOFFSETTO:+0000
TZNAME:GMT
DTSTART:20261025T010000
END:STANDARD
BEGIN:DAYLIGHT
TZOFFSETFROM:+0000
TZOFFSETTO:+0100
TZNAME:BST
DTSTART:20270328T010000
END:DAYLIGHT
BEGIN:STANDARD
TZOFFSETFROM:+0100
TZOFFSETTO:+0000
TZNAME:GMT
DTSTART:20271031T010000
END:STANDARD
END:VTIMEZONE
BEGIN:VEVENT
DTSTART;TZID=Europe/London:20260514T130000
DTEND;TZID=Europe/London:20260514T134000
DTSTAMP:20260424T150322
CREATED:20260210T123837Z
LAST-MODIFIED:20260210T124515Z
UID:10000312-1778763600-1778766000@bswtraininghub.nhs.uk
SUMMARY:BSW Virtual Diabetes Bitesize Education “Managing liver disease in people with Type 2 Diabetes” with Dr Matthew Farrant Consultant in Gastroenterology & Hepatology University Hospitals Bristol
DESCRIPTION:Welcome to the return of Diabetes Bitesize Education.  \nThe 2026 programme will offer key insights into managing Type 2 Diabetes from leading specialists. \nAll presentations will be 30 minutes followed by 10 minutes for questions. \nWe look forward to seeing you. \nThursday 14th May 2026 13:00-13:40 – Managing liver disease in people with Type 2 Diabetes with Dr Matthew Farrant Consultant in Gastroenterology & Hepatology UH  \n\nOccurrence and presentation of liver disease in the type 2 diabetes population\nHow to diagnose MASLD\nCommunicating risk to patients\nManagement of MASLD\n\nWhen to refer/ seek advice This event will be hosted on MS Teams. To register for this event\, please contact us using the email address below.
URL:https://bswtraininghub.nhs.uk/event/bsw-virtual-diabetes-bitesize-education-managing-liver-disease-in-people-with-type-2-diabetes-with-dr-matthew-farrant-consultant-in-gastroenterology-hepatology-uh/
LOCATION:Dorset
CATEGORIES:Diabetes
ORGANIZER;CN="Bath 3-D Integrated Diabetes Care%2C Bath":MAILTO:ruh-tr.diabetesprojectsupport@nhs.net
END:VEVENT
END:VCALENDAR