BEGIN:VCALENDAR
VERSION:2.0
PRODID:-//bswtraininghub.nhs.uk - ECPv6.15.20//NONSGML v1.0//EN
CALSCALE:GREGORIAN
METHOD:PUBLISH
X-ORIGINAL-URL:https://bswtraininghub.nhs.uk
X-WR-CALDESC:Events for bswtraininghub.nhs.uk
REFRESH-INTERVAL;VALUE=DURATION:PT1H
X-Robots-Tag:noindex
X-PUBLISHED-TTL:PT1H
BEGIN:VTIMEZONE
TZID:Europe/London
BEGIN:DAYLIGHT
TZOFFSETFROM:+0000
TZOFFSETTO:+0100
TZNAME:BST
DTSTART:20250330T010000
END:DAYLIGHT
BEGIN:STANDARD
TZOFFSETFROM:+0100
TZOFFSETTO:+0000
TZNAME:GMT
DTSTART:20251026T010000
END:STANDARD
BEGIN:DAYLIGHT
TZOFFSETFROM:+0000
TZOFFSETTO:+0100
TZNAME:BST
DTSTART:20260329T010000
END:DAYLIGHT
BEGIN:STANDARD
TZOFFSETFROM:+0100
TZOFFSETTO:+0000
TZNAME:GMT
DTSTART:20261025T010000
END:STANDARD
BEGIN:DAYLIGHT
TZOFFSETFROM:+0000
TZOFFSETTO:+0100
TZNAME:BST
DTSTART:20270328T010000
END:DAYLIGHT
BEGIN:STANDARD
TZOFFSETFROM:+0100
TZOFFSETTO:+0000
TZNAME:GMT
DTSTART:20271031T010000
END:STANDARD
END:VTIMEZONE
BEGIN:VEVENT
DTSTART;TZID=Europe/London:20260415T100000
DTEND;TZID=Europe/London:20260422T150000
DTSTAMP:20260424T135045
CREATED:20251223T111935Z
LAST-MODIFIED:20251223T111935Z
UID:10000296-1776247200-1776870000@bswtraininghub.nhs.uk
SUMMARY:Introduction to Practice Management
DESCRIPTION:This is a multi-day (non-consecutive) event. \n\nDay 1 – Wednesday 15th April 2026\nDay 2 – Wednesday 22nd April 2026\n\nPlease ensure you are able to attend all the above dates before booking. \nIntroduction\nThis virtual course will suit recently appointed practice managers who are new to the NHS\, deputy practice managers or those aspiring to be practice managers. It will provide information and support to understand the key areas which need to be addressed when managing a busy and successful practice. \n  \nDue to the wide content of the day\, it is not possible to go in depth into all areas\, however\, delegates will receive a fully informative manual (posted to your home or practice) with lots of resources to refer to on the day and in the future. \nPrevious Delegate Feedback\n“The course leader was very open and very enthusiastic about the role which made the course enjoyable”
URL:https://bswtraininghub.nhs.uk/event/introduction-to-practice-management/
LOCATION:Zoom
ATTACH;FMTTYPE=image/jpeg:https://bswtraininghub.nhs.uk/wp-content/uploads/2025/12/Logo-JPEG-2019-Smaller-34.jpg
ORGANIZER;CN="Wessex LMCs":MAILTO:lead@wessexlmcs.org.uk
END:VEVENT
BEGIN:VEVENT
DTSTART;TZID=Europe/London:20260421T093000
DTEND;TZID=Europe/London:20260421T103000
DTSTAMP:20260424T135045
CREATED:20251223T113145Z
LAST-MODIFIED:20251223T113145Z
UID:10000300-1776763800-1776767400@bswtraininghub.nhs.uk
SUMMARY:NHS App: A Guide for Practice Staff
DESCRIPTION:The majority of general practices in England now use the NHS App. This 90-minute virtual training session aimed at all staff looks takes a closer look. \nAims\nUnderstand how the NHS App works\, its key features\, how to support patients in using the NHS App\, and the benefits to both patients and the practice. \nObjectives\n\nLearn what features of the App have evolved over time and why\nUnderstand the registration process and how to troubleshoot\nUnderstand what hub pages are (Home\, Services\, Your Health\, Messages)\nGain an understanding of how the NHS App can help your practice\nUnderstand through lived experiences how the App increases productivity and reduces overheads\nLearn how the App can help overcome the barriers to digital inclusion\n\nContent\nThis session covers the evolution of the NHS App and its key features\, the registration process and troubleshooting tips\, and an overview of the main hub pages (Home\, Services\, Your Health\, Messages). It explores how the App supports practices by improving productivity and reducing overheads\, highlights patient experiences\, and considers how it can help overcome barriers to digital inclusion.
URL:https://bswtraininghub.nhs.uk/event/nhs-app-a-guide-for-practice-staff/
LOCATION:Zoom
ATTACH;FMTTYPE=image/jpeg:https://bswtraininghub.nhs.uk/wp-content/uploads/2025/12/Logo-JPEG-2019-Smaller-37.jpg
ORGANIZER;CN="Wessex LMCs":MAILTO:lead@wessexlmcs.org.uk
END:VEVENT
BEGIN:VEVENT
DTSTART;TZID=Europe/London:20260421T093000
DTEND;TZID=Europe/London:20260505T160000
DTSTAMP:20260424T135045
CREATED:20260212T131855Z
LAST-MODIFIED:20260212T131855Z
UID:10000326-1776763800-1777996800@bswtraininghub.nhs.uk
SUMMARY:Introduction to Asthma & COPD for General Practice (Dual Format)
DESCRIPTION:Registration 09:15 sessions run 09:30 to 16:00 on each day.\nThis is a multi-day (non-consecutive) event\n\nDay 1 – Tuesday 21st April 2026 – Face-to-Face at the Hamworthy Club.\nDay 2 – Tuesday 28th April 2026 – Over Zoom\nDay 3 – Tuesday 5th May 2026 – Over Zoom\n\nPlease ensure you are able to attend all the above dates before booking. \nIntroduction\nThis is a three-day introduction to asthma & chronic obstructive pulmonary disease (COPD) for healthcare professionals (Registered and Associate Nurses\, Paramedics\, Pharmacists\, Physiotherapists & Physicians Associates). This course is also suitable for level 3 or above HCA/HCSW who are supported by a Registered healthcare professional with appropriate respiratory training and experience. \nAims\n\nProvide an overview of the current understanding of asthma and COPD and an introduction to the monitoring and treatment available for both.\nProvide a knowledge base for HCP’s new to asthma and COPD to enhance knowledge and skills relevant for general practice.\nProvide an overview of the key differences in the signs and symptoms of asthma and COPD and an awareness of differential diagnosis.\nIntroduction to risk identification and discuss appropriate escalation.\nCommence a pathway of respiratory education and equip candidate to continue through self-directed and formal learning in line with Fit to Care: Key Knowledge\, Skills and Training for Clinicians Fit to Care | Primary Care Respiratory Society (pcrs-uk.org)\nEncourage self-directed learning\n\nObjectives\nOn completion of the three course days\, by undertaking additional self-directed learning and with peer/assessor support in practice\, healthcare professionals should: \n\nHave increased understanding of the disease processes and person impact\nHave awareness of differential diagnosis\nHave improved awareness of history taking in respiratory disease.\nAppreciate the complexity of making a diagnosis of asthma or COPD.\nHave the ability to use\, teach and understand peak flow readings & monitoring.\nHave awareness of spirometry in the diagnosis and monitoring of respiratory disease (Content not sufficient for education towards accreditation)\nHave awareness of the current guidelines for asthma and COPD.\nHave knowledge of commonly used inhaler devices\, spacers and supporting tools to work towards a robust inhaler technique check.\nHave improved understanding of asthma and COPD exacerbation identification and assessment.\nSupport patient education and facilitate steps towards self-management to optimise concordance and patient safety.\nBe working towards undertaking a basic monitoring patient review.\nAppreciate effective consultation in a time limited environment.\n\nPrevious Delegate Feedback\n“I loved the way the information was delivered so clearly “
URL:https://bswtraininghub.nhs.uk/event/introduction-to-asthma-copd-for-general-practice-dual-format-2/
LOCATION:Hamworthy club\, Canford Magna\,\, Winborne\, Dorset\, BH21 3AP\, United Kingdom
ATTACH;FMTTYPE=image/jpeg:https://bswtraininghub.nhs.uk/wp-content/uploads/2026/02/Logo-JPEG-2019-Much-Smaller-2.jpg
ORGANIZER;CN="Wessex LMCs":MAILTO:lead@wessexlmcs.org.uk
END:VEVENT
END:VCALENDAR